BEGIN:VCALENDAR
PRODID:-//nuDatenautomaten//framework iCal4j //DE
VERSION:2.0
CALSCALE:GREGORIAN
BEGIN:VTIMEZONE
TZID:Europe/Berlin
LAST-MODIFIED:20260306T231828Z
TZURL:https://www.tzurl.org/zoneinfo/Europe/Berlin
X-LIC-LOCATION:Europe/Berlin
X-PROLEPTIC-TZNAME:LMT
BEGIN:STANDARD
TZNAME:CET
TZOFFSETFROM:+005328
TZOFFSETTO:+0100
DTSTART:18930401T000000
END:STANDARD
BEGIN:DAYLIGHT
TZNAME:CEST
TZOFFSETFROM:+0100
TZOFFSETTO:+0200
DTSTART:19160430T230000
RDATE:19400401T020000
RDATE:19430329T020000
RDATE:19460414T020000
RDATE:19470406T030000
RDATE:19480418T020000
RDATE:19490410T020000
RDATE:19800406T020000
END:DAYLIGHT
BEGIN:STANDARD
TZNAME:CET
TZOFFSETFROM:+0200
TZOFFSETTO:+0100
DTSTART:19161001T010000
RDATE:19421102T030000
RDATE:19431004T030000
RDATE:19441002T030000
RDATE:19451118T030000
RDATE:19461007T030000
END:STANDARD
BEGIN:DAYLIGHT
TZNAME:CEST
TZOFFSETFROM:+0100
TZOFFSETTO:+0200
DTSTART:19170416T020000
RRULE:FREQ=YEARLY;UNTIL=19180415T010000Z;BYMONTH=4;BYDAY=3MO
END:DAYLIGHT
BEGIN:STANDARD
TZNAME:CET
TZOFFSETFROM:+0200
TZOFFSETTO:+0100
DTSTART:19170917T030000
RRULE:FREQ=YEARLY;UNTIL=19180916T010000Z;BYMONTH=9;BYDAY=3MO
END:STANDARD
BEGIN:DAYLIGHT
TZNAME:CEST
TZOFFSETFROM:+0100
TZOFFSETTO:+0200
DTSTART:19440403T020000
RRULE:FREQ=YEARLY;UNTIL=19450402T010000Z;BYMONTH=4;BYDAY=1MO
END:DAYLIGHT
BEGIN:DAYLIGHT
TZNAME:CEMT
TZOFFSETFROM:+0200
TZOFFSETTO:+0300
DTSTART:19450524T020000
RDATE:19470511T030000
END:DAYLIGHT
BEGIN:DAYLIGHT
TZNAME:CEST
TZOFFSETFROM:+0300
TZOFFSETTO:+0200
DTSTART:19450924T030000
RDATE:19470629T030000
END:DAYLIGHT
BEGIN:STANDARD
TZNAME:CET
TZOFFSETFROM:+0100
TZOFFSETTO:+0100
DTSTART:19460101T000000
RDATE:19800101T000000
END:STANDARD
BEGIN:STANDARD
TZNAME:CET
TZOFFSETFROM:+0200
TZOFFSETTO:+0100
DTSTART:19471005T030000
RRULE:FREQ=YEARLY;UNTIL=19491002T010000Z;BYMONTH=10;BYDAY=1SU
END:STANDARD
BEGIN:STANDARD
TZNAME:CET
TZOFFSETFROM:+0200
TZOFFSETTO:+0100
DTSTART:19800928T030000
RRULE:FREQ=YEARLY;UNTIL=19950924T010000Z;BYMONTH=9;BYDAY=-1SU
END:STANDARD
BEGIN:DAYLIGHT
TZNAME:CEST
TZOFFSETFROM:+0100
TZOFFSETTO:+0200
DTSTART:19810329T020000
RRULE:FREQ=YEARLY;BYMONTH=3;BYDAY=-1SU
END:DAYLIGHT
BEGIN:STANDARD
TZNAME:CET
TZOFFSETFROM:+0200
TZOFFSETTO:+0100
DTSTART:19961027T030000
RRULE:FREQ=YEARLY;BYMONTH=10;BYDAY=-1SU
END:STANDARD
END:VTIMEZONE
BEGIN:VEVENT
DTSTAMP:20260419T204313Z
DTSTART;TZID=Europe/Berlin:20230902T140000
DTEND;TZID=Europe/Berlin:20230902T170000
SUMMARY:1. Bezirksliga 2 VfL Rheinhausen II vs BSV GW Wesel-Flüren II (2)
UID:35d525a1-9015-43d9-b211-4a6c5eb096cc
STATUS:CONFIRMED
LAST-MODIFIED:20230904T104057Z
DESCRIPTION:Jungen 19 1. Bezirksliga 2\nBegegnungs-Nr: 2\nHeim: VfL Rheinhausen II\nGast: BSV GW Wesel-Flüren II\n\nAdresse: Flutweg 56\, 47226  Duisburg\n
LOCATION:Flutweg 56\, 47226  Duisburg
CATEGORIES:Saison 2023/24
END:VEVENT
BEGIN:VEVENT
DTSTAMP:20260419T204313Z
DTSTART;TZID=Europe/Berlin:20230923T140000
DTEND;TZID=Europe/Berlin:20230923T170000
SUMMARY:1. Bezirksliga 2 VfL Rheinhausen II vs TV Voerde (11)
UID:e64f6654-f1a5-499d-9e1c-bd972d5bd2b3
STATUS:CONFIRMED
LAST-MODIFIED:20230924T135551Z
DESCRIPTION:Jungen 19 1. Bezirksliga 2\nBegegnungs-Nr: 11\nHeim: VfL Rheinhausen II\nGast: TV Voerde\n\nAdresse: Flutweg 56\, 47226  Duisburg\n
LOCATION:Flutweg 56\, 47226  Duisburg
CATEGORIES:Saison 2023/24
END:VEVENT
BEGIN:VEVENT
DTSTAMP:20260419T204313Z
DTSTART;TZID=Europe/Berlin:20231104T142500
DTEND;TZID=Europe/Berlin:20231104T172500
SUMMARY:1. Bezirksliga 2 VfL Rheinhausen II vs SGP Oberlohberg (23)
UID:2aeb43b4-7ca5-4f11-a8d5-4295168f1788
STATUS:CONFIRMED
LAST-MODIFIED:20231105T140629Z
DESCRIPTION:Jungen 19 1. Bezirksliga 2\nBegegnungs-Nr: 23\nHeim: VfL Rheinhausen II\nGast: SGP Oberlohberg\n\nAdresse: Flutweg 56\, 47226  Duisburg\n
LOCATION:Flutweg 56\, 47226  Duisburg
CATEGORIES:Saison 2023/24
END:VEVENT
BEGIN:VEVENT
DTSTAMP:20260419T204313Z
DTSTART;TZID=Europe/Berlin:20240120T140000
DTEND;TZID=Europe/Berlin:20240120T170000
SUMMARY:2. Bezirksliga RR 1 VfL Rheinhausen II vs DJK Buchholz II (6)
UID:9106db47-c89d-470d-bcb3-a36c810e9887
STATUS:CONFIRMED
LAST-MODIFIED:20240121T172958Z
DESCRIPTION:Jungen 19 2. Bezirksliga RR 1\nBegegnungs-Nr: 6\nHeim: VfL Rheinhausen II\nGast: DJK Buchholz II\n\nAdresse: Flutweg 56\, 47226  Duisburg\n
LOCATION:Flutweg 56\, 47226  Duisburg
CATEGORIES:Saison 2023/24
END:VEVENT
BEGIN:VEVENT
DTSTAMP:20260419T204313Z
DTSTART;TZID=Europe/Berlin:20240314T180000
DTEND;TZID=Europe/Berlin:20240314T210000
SUMMARY:2. Bezirksliga RR 1 VfL Rheinhausen II vs GSV Moers (37)
UID:93b302e3-a84d-4654-9eca-35d58ef054ab
STATUS:CONFIRMED
LAST-MODIFIED:20240317T181231Z
DESCRIPTION:Jungen 19 2. Bezirksliga RR 1\nBegegnungs-Nr: 37\nHeim: VfL Rheinhausen II\nGast: GSV Moers\n\nAdresse: Flutweg 56\, 47226  Duisburg\n
LOCATION:Flutweg 56\, 47226  Duisburg
CATEGORIES:Saison 2023/24
END:VEVENT
BEGIN:VEVENT
DTSTAMP:20260419T204313Z
DTSTART;TZID=Europe/Berlin:20240302T140000
DTEND;TZID=Europe/Berlin:20240302T170000
SUMMARY:2. Bezirksliga RR 1 VfL Rheinhausen II vs DSC Kaiserberg (27)
UID:bd991e92-2b50-4b21-8484-7127dc40bc19
STATUS:CONFIRMED
LAST-MODIFIED:20240303T181210Z
DESCRIPTION:Jungen 19 2. Bezirksliga RR 1\nBegegnungs-Nr: 27\nHeim: VfL Rheinhausen II\nGast: DSC Kaiserberg\n\nAdresse: Flutweg 56\, 47226  Duisburg\n
LOCATION:Flutweg 56\, 47226  Duisburg
CATEGORIES:Saison 2023/24
END:VEVENT
BEGIN:VEVENT
DTSTAMP:20260419T204313Z
DTSTART;TZID=Europe/Berlin:20240217T140000
DTEND;TZID=Europe/Berlin:20240217T170000
SUMMARY:2. Bezirksliga RR 1 VfL Rheinhausen II vs BSV GW Wesel-Flüren II (18)
UID:db680728-9dd6-4af6-9e66-4d5ccea4c8af
STATUS:CONFIRMED
LAST-MODIFIED:20240218T192552Z
DESCRIPTION:Jungen 19 2. Bezirksliga RR 1\nBegegnungs-Nr: 18\nHeim: VfL Rheinhausen II\nGast: BSV GW Wesel-Flüren II\n\nAdresse: Flutweg 56\, 47226  Duisburg\n
LOCATION:Flutweg 56\, 47226  Duisburg
CATEGORIES:Saison 2023/24
END:VEVENT
BEGIN:VEVENT
DTSTAMP:20260419T204313Z
DTSTART;TZID=Europe/Berlin:20231115T181500
DTEND;TZID=Europe/Berlin:20231115T211500
SUMMARY:1. Bezirksliga 2 TTC Homberg II vs VfL Rheinhausen II (27)
UID:ae90467d-a020-4476-ad7a-a4f08d351964
STATUS:CONFIRMED
LAST-MODIFIED:20231119T172259Z
DESCRIPTION:Jungen 19 1. Bezirksliga 2\nBegegnungs-Nr: 27\nHeim: TTC Homberg II\nGast: VfL Rheinhausen II\n\nAdresse: Ehrenstr. 87\, 47198 Duisburg\n
LOCATION:Ehrenstr. 87\, 47198 Duisburg
CATEGORIES:Saison 2023/24
END:VEVENT
BEGIN:VEVENT
DTSTAMP:20260419T204313Z
DTSTART;TZID=Europe/Berlin:20230909T150000
DTEND;TZID=Europe/Berlin:20230909T180000
SUMMARY:1. Bezirksliga 2 DSC Kaiserberg vs VfL Rheinhausen II (6)
UID:60f607ea-da71-469d-927d-e4d6bf1048de
STATUS:CONFIRMED
LAST-MODIFIED:20230910T101708Z
DESCRIPTION:Jungen 19 1. Bezirksliga 2\nBegegnungs-Nr: 6\nHeim: DSC Kaiserberg\nGast: VfL Rheinhausen II\n\nAdresse: Carstanjenstraße 10\, 47057 Duisburg\n
LOCATION:Carstanjenstraße 10\, 47057 Duisburg
CATEGORIES:Saison 2023/24
END:VEVENT
BEGIN:VEVENT
DTSTAMP:20260419T204313Z
DTSTART;TZID=Europe/Berlin:20231125T150000
DTEND;TZID=Europe/Berlin:20231125T180000
SUMMARY:1. Bezirksliga 2 MTV Rheinwacht Dinslaken II vs VfL Rheinhausen II (36)
UID:1d46e879-9cc1-46c9-a9e8-3537289ed559
STATUS:CONFIRMED
LAST-MODIFIED:20231127T094303Z
DESCRIPTION:Jungen 19 1. Bezirksliga 2\nBegegnungs-Nr: 36\nHeim: MTV Rheinwacht Dinslaken II\nGast: VfL Rheinhausen II\n\nAdresse: Hagenstr. 139\, 46535 Dinslaken\n
LOCATION:Hagenstr. 139\, 46535 Dinslaken
CATEGORIES:Saison 2023/24
END:VEVENT
BEGIN:VEVENT
DTSTAMP:20260419T204313Z
DTSTART;TZID=Europe/Berlin:20231028T143000
DTEND;TZID=Europe/Berlin:20231028T173000
SUMMARY:1. Bezirksliga 2 SV Schermbeck vs VfL Rheinhausen II (18)
UID:96ae2f78-c021-4898-adcb-4001cf4b1de3
STATUS:CONFIRMED
LAST-MODIFIED:20231030T111706Z
DESCRIPTION:Jungen 19 1. Bezirksliga 2\nBegegnungs-Nr: 18\nHeim: SV Schermbeck\nGast: VfL Rheinhausen II\n\nAdresse: Weseler Str. 12\, 46514 Schermbeck\n
LOCATION:Weseler Str. 12\, 46514 Schermbeck
CATEGORIES:Saison 2023/24
END:VEVENT
BEGIN:VEVENT
DTSTAMP:20260419T204313Z
DTSTART;TZID=Europe/Berlin:20240114T120000
DTEND;TZID=Europe/Berlin:20240114T150000
SUMMARY:2. Bezirksliga RR 1 MTV Rheinwacht Dinslaken II vs VfL Rheinhausen II (5)
UID:468be652-40da-4a70-bcf5-6c84418a214c
STATUS:CONFIRMED
LAST-MODIFIED:20240114T201512Z
DESCRIPTION:Jungen 19 2. Bezirksliga RR 1\nBegegnungs-Nr: 5\nHeim: MTV Rheinwacht Dinslaken II\nGast: VfL Rheinhausen II\n\nAdresse: Hagenstr. 139\, 46535 Dinslaken\n
LOCATION:Hagenstr. 139\, 46535 Dinslaken
CATEGORIES:Saison 2023/24
END:VEVENT
BEGIN:VEVENT
DTSTAMP:20260419T204313Z
DTSTART;TZID=Europe/Berlin:20240224T143000
DTEND;TZID=Europe/Berlin:20240224T173000
SUMMARY:2. Bezirksliga RR 1 SV Schermbeck vs VfL Rheinhausen II (23)
UID:fe8d0913-b1b5-46b3-b7da-631048b69c6a
STATUS:CONFIRMED
LAST-MODIFIED:20240225T162756Z
DESCRIPTION:Jungen 19 2. Bezirksliga RR 1\nBegegnungs-Nr: 23\nHeim: SV Schermbeck\nGast: VfL Rheinhausen II\n\nAdresse: Weseler Str. 12\, 46514 Schermbeck\n
LOCATION:Weseler Str. 12\, 46514 Schermbeck
CATEGORIES:Saison 2023/24
END:VEVENT
BEGIN:VEVENT
DTSTAMP:20260419T204313Z
DTSTART;TZID=Europe/Berlin:20240308T180000
DTEND;TZID=Europe/Berlin:20240308T210000
SUMMARY:2. Bezirksliga RR 1 TuS Xanten vs VfL Rheinhausen II (43)
UID:fabad1e5-e110-492a-a055-1010d1364961
STATUS:CONFIRMED
LAST-MODIFIED:20240310T190549Z
DESCRIPTION:Jungen 19 2. Bezirksliga RR 1\nBegegnungs-Nr: 43\nHeim: TuS Xanten\nGast: VfL Rheinhausen II\n\nAdresse: Johannes-Janssen-Str. 6\, 46509 Xanten\n
LOCATION:Johannes-Janssen-Str. 6\, 46509 Xanten
CATEGORIES:Saison 2023/24
END:VEVENT
BEGIN:VEVENT
DTSTAMP:20260419T204313Z
DTSTART;TZID=Europe/Berlin:20240309T140000
DTEND;TZID=Europe/Berlin:20240309T170000
SUMMARY:2. Bezirksliga RR 1 TTV Falken Rheinkamp vs VfL Rheinhausen II (32)
UID:56744f9b-ad4f-4ef4-b641-406a6a33873d
STATUS:CONFIRMED
LAST-MODIFIED:20240310T190556Z
DESCRIPTION:Jungen 19 2. Bezirksliga RR 1\nBegegnungs-Nr: 32\nHeim: TTV Falken Rheinkamp\nGast: VfL Rheinhausen II\n\nAdresse: Kopernikusstr. 8\, 47445 Moers\n
LOCATION:Kopernikusstr. 8\, 47445 Moers
CATEGORIES:Saison 2023/24
END:VEVENT
BEGIN:VEVENT
DTSTAMP:20260419T204313Z
DTSTART;TZID=Europe/Berlin:20240203T143000
DTEND;TZID=Europe/Berlin:20240203T173000
SUMMARY:2. Bezirksliga RR 1 PSV Oberhausen II vs VfL Rheinhausen II (15)
UID:373bc813-e19e-47d2-ae2a-cfefbc01b5a6
STATUS:CONFIRMED
LAST-MODIFIED:20240205T082447Z
DESCRIPTION:Jungen 19 2. Bezirksliga RR 1\nBegegnungs-Nr: 15\nHeim: PSV Oberhausen II\nGast: VfL Rheinhausen II\n\nAdresse: Am Förderturm 5\, 46049 Oberhausen\n
LOCATION:Am Förderturm 5\, 46049 Oberhausen
CATEGORIES:Saison 2023/24
END:VEVENT
END:VCALENDAR
